BEGIN:VCALENDAR
VERSION:2.0
PRODID:-//hacksw/handcal//NONSGML v1.0//EN
CALSCALE:GREGORIAN
BEGIN:VEVENT
ORGANIZER;CN=BioNTech:MAILTO:no-reply@gcs-web.com
DTEND:20260515T150000Z
UID:15a963dc-49f4-42fb-8f1f-b44ebffa1100
DTSTAMP:1777044074
LOCATION:https://investors.biontech.de/events/event-details/annual-general-meeting-4
DESCRIPTION:Event Details https://investors.biontech.de/events/event-details/annual-general-meeting-4
URL;VALUE=URI:https://investors.biontech.de/events/event-details/annual-general-meeting-4
SUMMARY:BioNTech - Annual General Meeting
DTSTART:20260515T120000Z
END:VEVENT
END:VCALENDAR